BEGIN:VCALENDAR
VERSION:2.0
PRODID:-//ISHC - ECPv6.15.20//NONSGML v1.0//EN
CALSCALE:GREGORIAN
METHOD:PUBLISH
X-WR-CALNAME:ISHC
X-ORIGINAL-URL:https://ishc.com
X-WR-CALDESC:Events for ISHC
REFRESH-INTERVAL;VALUE=DURATION:PT1H
X-Robots-Tag:noindex
X-PUBLISHED-TTL:PT1H
BEGIN:VTIMEZONE
TZID:UTC
BEGIN:STANDARD
TZOFFSETFROM:+0000
TZOFFSETTO:+0000
TZNAME:UTC
DTSTART:20220101T000000
END:STANDARD
END:VTIMEZONE
BEGIN:VEVENT
DTSTART;VALUE=DATE:20230425
DTEND;VALUE=DATE:20230426
DTSTAMP:20260421T172217
CREATED:20230726T150035Z
LAST-MODIFIED:20231116T144327Z
UID:10629-1682380800-1682467199@ishc.com
SUMMARY:ISHC Spring Board Meeting & NYC Regional Event
DESCRIPTION:The ISHC Board of Directors met in New York City in April 2023 for the Spring Board Meeting. Afterwards\, a cocktail reception and tour was held at the brand new Equinox Hotel in Hudson Yards.
URL:https://ishc.com/event/ishc-spring-board-meeting-nyc-regional-event/
LOCATION:Equinox Hotel\, New York\, NY\, United States
ATTACH;FMTTYPE=image/jpeg:https://ishc.com/wp-content/uploads/2023/11/Leadership.jpg
END:VEVENT
BEGIN:VEVENT
DTSTART;VALUE=DATE:20230404
DTEND;VALUE=DATE:20230405
DTSTAMP:20260421T172217
CREATED:20230726T150035Z
LAST-MODIFIED:20230726T200539Z
UID:10631-1680566400-1680652799@ishc.com
SUMMARY:Washington\, DC Regional Event
DESCRIPTION:In April\, ISHC Members\, potential candidates\, and Friends of the Society gathered for a cocktail at the Waldorf Astoria in Washington\, D.C.
URL:https://ishc.com/event/washington-dc-regional-event/
ATTACH;FMTTYPE=image/jpeg:https://ishc.com/wp-content/uploads/2023/07/IMG_4550.jpg
END:VEVENT
BEGIN:VEVENT
DTSTART;VALUE=DATE:20230122
DTEND;VALUE=DATE:20230123
DTSTAMP:20260421T172217
CREATED:20230726T150035Z
LAST-MODIFIED:20230726T174026Z
UID:10632-1674345600-1674431999@ishc.com
SUMMARY:ISHC Reception in conjunction with ALIS
DESCRIPTION:In conjunction with the ALIS Hotel Investment conference\, ISHC held a reception at Prank Bar in Los Angeles\, CA. ISHC members\, candidates\, and Friends of the Society gathered from near and far to enjoy each other’s company in the warm LA weather.
URL:https://ishc.com/event/ishc-reception-in-conjunction-with-alis/
LOCATION:Prank Bar\, Los Angeles\, CA\, United States
ATTACH;FMTTYPE=image/jpeg:https://ishc.com/wp-content/uploads/2023/07/IMG_3693.jpg
END:VEVENT
END:VCALENDAR