BEGIN:VCALENDAR
VERSION:2.0
PRODID:-//ISHC - ECPv6.15.20//NONSGML v1.0//EN
CALSCALE:GREGORIAN
METHOD:PUBLISH
X-WR-CALNAME:ISHC
X-ORIGINAL-URL:https://ishc.com
X-WR-CALDESC:Events for ISHC
REFRESH-INTERVAL;VALUE=DURATION:PT1H
X-Robots-Tag:noindex
X-PUBLISHED-TTL:PT1H
BEGIN:VTIMEZONE
TZID:UTC
BEGIN:STANDARD
TZOFFSETFROM:+0000
TZOFFSETTO:+0000
TZNAME:UTC
DTSTART:20230101T000000
END:STANDARD
END:VTIMEZONE
BEGIN:VEVENT
DTSTART;VALUE=DATE:20240926
DTEND;VALUE=DATE:20240929
DTSTAMP:20260420T074353
CREATED:20231107T151146Z
LAST-MODIFIED:20240521T192127Z
UID:11100-1727308800-1727567999@ishc.com
SUMMARY:2024 ISHC Annual Conference
DESCRIPTION:
URL:https://ishc.com/event/2024-ishc-conference/
LOCATION:St. Regis Dubai\, The Palm\, Dubai\, United Arab Emirates
ATTACH;FMTTYPE=image/png:https://ishc.com/wp-content/uploads/2024/05/ISHC-2024-Dubai-Lockup-concept1_Prancheta-1-1.png
END:VEVENT
END:VCALENDAR